Package: CCPlotR Version: 1.6.0 Command: rm -rf CCPlotR.buildbin-libdir && mkdir CCPlotR.buildbin-libdir && /Users/biocbuild/BBS/utils/build-universal.sh CCPlotR_1.6.0.tar.gz /Library/Frameworks/R.framework/Resources/bin/R CCPlotR.buildbin-libdir StartedAt: 2025-10-15 17:44:38 -0400 (Wed, 15 Oct 2025) EndedAt: 2025-10-15 17:44:56 -0400 (Wed, 15 Oct 2025) EllapsedTime: 18.1 seconds RetCode: 0 Status: OK PackageFile: CCPlotR_1.6.0.tgz PackageFileSize: 2.765 MiB