Package: CCPROMISE Version: 1.34.0 Command: /Library/Frameworks/R.framework/Resources/bin/R CMD build --keep-empty-dirs --no-resave-data CCPROMISE StartedAt: 2025-10-13 17:41:53 -0400 (Mon, 13 Oct 2025) EndedAt: 2025-10-13 17:43:16 -0400 (Mon, 13 Oct 2025) EllapsedTime: 82.8 seconds RetCode: 0 Status: OK PackageFile: CCPROMISE_1.34.0.tar.gz PackageFileSize: 1.03 MiB