Package: CCPROMISE Version: 1.34.0 Command: /home/biocbuild/R/R/bin/R CMD INSTALL CCPROMISE StartedAt: 2025-10-13 21:17:06 -0000 (Mon, 13 Oct 2025) EndedAt: 2025-10-13 21:17:27 -0000 (Mon, 13 Oct 2025) EllapsedTime: 20.6 seconds RetCode: 0 Status: OK