Package: CCPROMISE Version: 1.34.0 Command: /Library/Frameworks/R.framework/Resources/bin/R CMD build --keep-empty-dirs --no-resave-data CCPROMISE StartedAt: 2025-10-13 20:40:23 -0400 (Mon, 13 Oct 2025) EndedAt: 2025-10-13 20:41:20 -0400 (Mon, 13 Oct 2025) EllapsedTime: 57.3 seconds RetCode: 0 Status: OK PackageFile: CCPROMISE_1.34.0.tar.gz PackageFileSize: 1.03 MiB