Package: CCAFE Version: 1.0.0 Command: rm -rf CCAFE.buildbin-libdir && mkdir CCAFE.buildbin-libdir && /Users/biocbuild/BBS/utils/build-universal.sh CCAFE_1.0.0.tar.gz /Library/Frameworks/R.framework/Resources/bin/R CCAFE.buildbin-libdir StartedAt: 2025-04-22 00:36:59 -0400 (Tue, 22 Apr 2025) EndedAt: 2025-04-22 00:37:07 -0400 (Tue, 22 Apr 2025) EllapsedTime: 8.1 seconds RetCode: 0 Status: OK PackageFile: CCAFE_1.0.0.tgz PackageFileSize: 5.7 MiB