Package: CCAFE Version: 1.0.0 Command: /home/biocbuild/R/R/bin/R CMD build --keep-empty-dirs --no-resave-data CCAFE StartedAt: 2025-10-13 23:23:56 -0000 (Mon, 13 Oct 2025) EndedAt: 2025-10-13 23:25:49 -0000 (Mon, 13 Oct 2025) EllapsedTime: 113.0 seconds RetCode: 0 Status: OK PackageFile: CCAFE_1.0.0.tar.gz PackageFileSize: 5.683 MiB