Package: CBNplot Version: 1.8.0 Command: /home/biocbuild/R/R/bin/R CMD INSTALL CBNplot StartedAt: 2025-10-13 21:10:47 -0000 (Mon, 13 Oct 2025) EndedAt: 2025-10-13 21:11:29 -0000 (Mon, 13 Oct 2025) EllapsedTime: 41.9 seconds RetCode: 0 Status: OK