Package: CBNplot Version: 1.8.0 Command: /home/biocbuild/R/R/bin/R CMD build --keep-empty-dirs --no-resave-data CBNplot StartedAt: 2025-10-13 23:23:33 -0000 (Mon, 13 Oct 2025) EndedAt: 2025-10-13 23:24:54 -0000 (Mon, 13 Oct 2025) EllapsedTime: 81.0 seconds RetCode: 0 Status: OK PackageFile: CBNplot_1.8.0.tar.gz PackageFileSize: 1.003 MiB