Package: CBNplot Version: 1.8.0 Command: /Library/Frameworks/R.framework/Resources/bin/R CMD build --keep-empty-dirs --no-resave-data CBNplot StartedAt: 2025-10-13 20:37:24 -0400 (Mon, 13 Oct 2025) EndedAt: 2025-10-13 20:38:37 -0400 (Mon, 13 Oct 2025) EllapsedTime: 72.6 seconds RetCode: 0 Status: OK PackageFile: CBNplot_1.8.0.tar.gz PackageFileSize: 1.034 MiB