Package: CBEA Version: 1.8.0 Command: /home/biocbuild/R/R/bin/R CMD INSTALL CBEA StartedAt: 2025-10-13 21:19:43 -0000 (Mon, 13 Oct 2025) EndedAt: 2025-10-13 21:20:42 -0000 (Mon, 13 Oct 2025) EllapsedTime: 58.6 seconds RetCode: 0 Status: OK