Package: CBEA Version: 1.8.0 Command: /Library/Frameworks/R.framework/Resources/bin/R CMD INSTALL CBEA StartedAt: 2025-10-13 18:38:25 -0400 (Mon, 13 Oct 2025) EndedAt: 2025-10-13 18:39:12 -0400 (Mon, 13 Oct 2025) EllapsedTime: 47.2 seconds RetCode: 0 Status: OK