Package: CATALYST Version: 1.32.1 Command: /home/biocbuild/R/R/bin/R CMD INSTALL CATALYST StartedAt: 2025-10-13 21:14:23 -0000 (Mon, 13 Oct 2025) EndedAt: 2025-10-13 21:15:18 -0000 (Mon, 13 Oct 2025) EllapsedTime: 55.1 seconds RetCode: 0 Status: OK