Package: CATALYST Version: 1.32.1 Command: /home/biocbuild/R/R/bin/R CMD build --keep-empty-dirs --no-resave-data CATALYST StartedAt: 2025-10-13 23:22:12 -0000 (Mon, 13 Oct 2025) EndedAt: 2025-10-13 23:26:24 -0000 (Mon, 13 Oct 2025) EllapsedTime: 252.1 seconds RetCode: 0 Status: OK PackageFile: CATALYST_1.32.1.tar.gz PackageFileSize: 10.84 MiB