Package: CARDspa Version: 1.0.0 Command: /home/biocbuild/R/R/bin/R CMD build --keep-empty-dirs --no-resave-data CARDspa StartedAt: 2025-10-13 23:21:56 -0000 (Mon, 13 Oct 2025) EndedAt: 2025-10-13 23:31:47 -0000 (Mon, 13 Oct 2025) EllapsedTime: 591.2 seconds RetCode: 0 Status: OK PackageFile: CARDspa_1.0.0.tar.gz PackageFileSize: 3.757 MiB