Package: BumpyMatrix Version: 1.16.0 Command: /Library/Frameworks/R.framework/Resources/bin/R CMD build --keep-empty-dirs --no-resave-data BumpyMatrix StartedAt: 2025-10-13 17:35:30 -0400 (Mon, 13 Oct 2025) EndedAt: 2025-10-13 17:36:23 -0400 (Mon, 13 Oct 2025) EllapsedTime: 53.4 seconds RetCode: 0 Status: OK PackageFile: BumpyMatrix_1.16.0.tar.gz PackageFileSize: 317.5 KiB