Package: BulkSignalR Version: 1.0.5 Command: /home/biocbuild/bbs-3.21-bioc/R/bin/R CMD INSTALL BulkSignalR StartedAt: 2025-10-15 15:58:12 -0400 (Wed, 15 Oct 2025) EndedAt: 2025-10-15 15:59:00 -0400 (Wed, 15 Oct 2025) EllapsedTime: 47.8 seconds RetCode: 0 Status: OK