Package: BulkSignalR Version: 1.0.5 Command: /home/biocbuild/bbs-3.21-bioc/R/bin/R CMD build --keep-empty-dirs --no-resave-data BulkSignalR StartedAt: 2025-10-15 16:31:50 -0400 (Wed, 15 Oct 2025) EndedAt: 2025-10-15 16:35:41 -0400 (Wed, 15 Oct 2025) EllapsedTime: 231.2 seconds RetCode: 0 Status: OK PackageFile: BulkSignalR_1.0.5.tar.gz PackageFileSize: 2.982 MiB