Package: BulkSignalR Version: 1.0.5 Command: /Library/Frameworks/R.framework/Resources/bin/R CMD INSTALL BulkSignalR StartedAt: 2025-10-13 16:47:13 -0400 (Mon, 13 Oct 2025) EndedAt: 2025-10-13 16:48:54 -0400 (Mon, 13 Oct 2025) EllapsedTime: 101.1 seconds RetCode: 0 Status: OK