Package: BulkSignalR Version: 1.0.5 Command: /Library/Frameworks/R.framework/Resources/bin/R CMD build --keep-empty-dirs --no-resave-data BulkSignalR StartedAt: 2025-10-13 17:35:16 -0400 (Mon, 13 Oct 2025) EndedAt: 2025-10-13 17:43:17 -0400 (Mon, 13 Oct 2025) EllapsedTime: 480.5 seconds RetCode: 0 Status: OK PackageFile: BulkSignalR_1.0.5.tar.gz PackageFileSize: 3.073 MiB