Package: BulkSignalR Version: 1.0.5 Command: rm -rf BulkSignalR.buildbin-libdir && mkdir BulkSignalR.buildbin-libdir && /Users/biocbuild/BBS/utils/build-universal.sh BulkSignalR_1.0.5.tar.gz /Library/Frameworks/R.framework/Resources/bin/R BulkSignalR.buildbin-libdir StartedAt: 2025-10-14 12:57:23 -0400 (Tue, 14 Oct 2025) EndedAt: 2025-10-14 12:59:08 -0400 (Tue, 14 Oct 2025) EllapsedTime: 105.7 seconds RetCode: 0 Status: OK PackageFile: BulkSignalR_1.0.5.tgz PackageFileSize: 4.009 MiB