Package: BulkSignalR Version: 1.0.5 Command: /Library/Frameworks/R.framework/Resources/bin/R CMD INSTALL BulkSignalR StartedAt: 2025-10-13 18:29:36 -0400 (Mon, 13 Oct 2025) EndedAt: 2025-10-13 18:30:32 -0400 (Mon, 13 Oct 2025) EllapsedTime: 55.9 seconds RetCode: 0 Status: OK