Package: BulkSignalR Version: 1.0.5 Command: /Library/Frameworks/R.framework/Resources/bin/R CMD build --keep-empty-dirs --no-resave-data BulkSignalR StartedAt: 2025-10-13 20:21:50 -0400 (Mon, 13 Oct 2025) EndedAt: 2025-10-13 20:26:05 -0400 (Mon, 13 Oct 2025) EllapsedTime: 254.8 seconds RetCode: 0 Status: OK PackageFile: BulkSignalR_1.0.5.tar.gz PackageFileSize: 3.077 MiB