Package: BulkSignalR Version: 1.0.5 Command: rm -rf BulkSignalR.buildbin-libdir && mkdir BulkSignalR.buildbin-libdir && /Users/biocbuild/BBS/utils/build-universal.sh BulkSignalR_1.0.5.tar.gz /Library/Frameworks/R.framework/Resources/bin/R BulkSignalR.buildbin-libdir StartedAt: 2025-10-15 17:40:41 -0400 (Wed, 15 Oct 2025) EndedAt: 2025-10-15 17:41:40 -0400 (Wed, 15 Oct 2025) EllapsedTime: 59.3 seconds RetCode: 0 Status: OK PackageFile: BulkSignalR_1.0.5.tgz PackageFileSize: 4.009 MiB