Package: BufferedMatrixMethods Version: 1.72.0 Command: /home/biocbuild/bbs-3.21-bioc/R/bin/R CMD check --install=check:BufferedMatrixMethods.install-out.txt --library=/home/biocbuild/bbs-3.21-bioc/R/site-library --timings BufferedMatrixMethods_1.72.0.tar.gz StartedAt: 2025-10-15 21:22:27 -0400 (Wed, 15 Oct 2025) EndedAt: 2025-10-15 21:22:43 -0400 (Wed, 15 Oct 2025) EllapsedTime: 16.0 seconds RetCode: 0 Status: OK CheckDir: BufferedMatrixMethods.Rcheck Warnings: 0