Package: BufferedMatrixMethods Version: 1.72.0 Command: /home/biocbuild/bbs-3.21-bioc/R/bin/R CMD build --keep-empty-dirs --no-resave-data BufferedMatrixMethods StartedAt: 2025-10-15 16:31:48 -0400 (Wed, 15 Oct 2025) EndedAt: 2025-10-15 16:31:49 -0400 (Wed, 15 Oct 2025) EllapsedTime: 1.0 seconds RetCode: 0 Status: OK PackageFile: BufferedMatrixMethods_1.72.0.tar.gz PackageFileSize: 10.85 KiB