Package: BufferedMatrixMethods Version: 1.72.0 Command: /Library/Frameworks/R.framework/Resources/bin/R CMD INSTALL BufferedMatrixMethods StartedAt: 2025-10-13 15:06:30 -0400 (Mon, 13 Oct 2025) EndedAt: 2025-10-13 15:06:54 -0400 (Mon, 13 Oct 2025) EllapsedTime: 24.0 seconds RetCode: 0 Status: OK