Package: BufferedMatrixMethods Version: 1.72.0 Command: /Library/Frameworks/R.framework/Resources/bin/R CMD check --install=check:BufferedMatrixMethods.install-out.txt --library=/Library/Frameworks/R.framework/Resources/library --no-vignettes --timings BufferedMatrixMethods_1.72.0.tar.gz StartedAt: 2025-10-14 00:57:44 -0400 (Tue, 14 Oct 2025) EndedAt: 2025-10-14 00:58:21 -0400 (Tue, 14 Oct 2025) EllapsedTime: 36.5 seconds RetCode: 0 Status: OK CheckDir: BufferedMatrixMethods.Rcheck Warnings: 0