Package: BufferedMatrixMethods Version: 1.72.0 Command: /home/biocbuild/R/R/bin/R CMD INSTALL BufferedMatrixMethods StartedAt: 2025-10-13 20:12:54 -0000 (Mon, 13 Oct 2025) EndedAt: 2025-10-13 20:13:15 -0000 (Mon, 13 Oct 2025) EllapsedTime: 20.9 seconds RetCode: 0 Status: OK