Package: BufferedMatrix Version: 1.72.0 Command: /home/biocbuild/R/R/bin/R CMD INSTALL BufferedMatrix StartedAt: 2025-10-13 20:12:43 -0000 (Mon, 13 Oct 2025) EndedAt: 2025-10-13 20:12:51 -0000 (Mon, 13 Oct 2025) EllapsedTime: 7.4 seconds RetCode: 0 Status: OK