Package: BufferedMatrix Version: 1.72.0 Command: /home/biocbuild/R/R/bin/R CMD build --keep-empty-dirs --no-resave-data BufferedMatrix StartedAt: 2025-10-13 23:17:17 -0000 (Mon, 13 Oct 2025) EndedAt: 2025-10-13 23:17:29 -0000 (Mon, 13 Oct 2025) EllapsedTime: 12.0 seconds RetCode: 0 Status: OK PackageFile: BufferedMatrix_1.72.0.tar.gz PackageFileSize: 623 KiB