Package: BubbleTree Version: 2.38.0 Command: /home/biocbuild/bbs-3.21-bioc/R/bin/R CMD INSTALL BubbleTree StartedAt: 2025-10-15 15:42:43 -0400 (Wed, 15 Oct 2025) EndedAt: 2025-10-15 15:43:34 -0400 (Wed, 15 Oct 2025) EllapsedTime: 51.2 seconds RetCode: 0 Status: OK