Package: BubbleTree Version: 2.38.0 Command: /Library/Frameworks/R.framework/Resources/bin/R CMD INSTALL BubbleTree StartedAt: 2025-10-13 16:17:31 -0400 (Mon, 13 Oct 2025) EndedAt: 2025-10-13 16:19:17 -0400 (Mon, 13 Oct 2025) EllapsedTime: 105.5 seconds RetCode: 0 Status: OK