Package: BubbleTree Version: 2.38.0 Command: /home/biocbuild/R/R/bin/R CMD INSTALL BubbleTree StartedAt: 2025-10-13 20:59:11 -0000 (Mon, 13 Oct 2025) EndedAt: 2025-10-13 21:00:23 -0000 (Mon, 13 Oct 2025) EllapsedTime: 71.2 seconds RetCode: 0 Status: OK