Package: BubbleTree Version: 2.38.0 Command: /Library/Frameworks/R.framework/Resources/bin/R CMD INSTALL BubbleTree StartedAt: 2025-10-13 17:29:43 -0400 (Mon, 13 Oct 2025) EndedAt: 2025-10-13 17:30:44 -0400 (Mon, 13 Oct 2025) EllapsedTime: 60.8 seconds RetCode: 0 Status: OK