Package: BrowserViz Version: 2.30.0 Command: /home/biocbuild/R/R/bin/R CMD INSTALL BrowserViz StartedAt: 2025-10-13 20:25:32 -0000 (Mon, 13 Oct 2025) EndedAt: 2025-10-13 20:25:37 -0000 (Mon, 13 Oct 2025) EllapsedTime: 5.7 seconds RetCode: 0 Status: OK