Package: BrowserViz Version: 2.30.0 Command: /Library/Frameworks/R.framework/Resources/bin/R CMD INSTALL BrowserViz StartedAt: 2025-10-13 15:56:50 -0400 (Mon, 13 Oct 2025) EndedAt: 2025-10-13 15:56:54 -0400 (Mon, 13 Oct 2025) EllapsedTime: 4.0 seconds RetCode: 0 Status: OK