Package: BrowserViz Version: 2.30.0 Command: /Library/Frameworks/R.framework/Resources/bin/R CMD build --keep-empty-dirs --no-resave-data BrowserViz StartedAt: 2025-10-13 20:19:58 -0400 (Mon, 13 Oct 2025) EndedAt: 2025-10-13 20:20:06 -0400 (Mon, 13 Oct 2025) EllapsedTime: 7.9 seconds RetCode: 0 Status: OK PackageFile: BrowserViz_2.30.0.tar.gz PackageFileSize: 240.9 KiB