Package: BridgeDbR Version: 2.18.0 Command: /home/biocbuild/bbs-3.21-bioc/R/bin/R CMD INSTALL BridgeDbR StartedAt: 2025-10-15 15:02:56 -0400 (Wed, 15 Oct 2025) EndedAt: 2025-10-15 15:03:14 -0400 (Wed, 15 Oct 2025) EllapsedTime: 18.1 seconds RetCode: 0 Status: OK