Package: BridgeDbR Version: 2.18.0 Command: /home/biocbuild/R/R/bin/R CMD INSTALL BridgeDbR StartedAt: 2025-10-13 20:13:46 -0000 (Mon, 13 Oct 2025) EndedAt: 2025-10-13 20:14:16 -0000 (Mon, 13 Oct 2025) EllapsedTime: 29.9 seconds RetCode: 0 Status: OK