Package: BridgeDbR Version: 2.18.0 Command: /Library/Frameworks/R.framework/Resources/bin/R CMD INSTALL BridgeDbR StartedAt: 2025-10-13 15:11:06 -0400 (Mon, 13 Oct 2025) EndedAt: 2025-10-13 15:11:10 -0400 (Mon, 13 Oct 2025) EllapsedTime: 3.5 seconds RetCode: 0 Status: OK