Package: BloodGen3Module Version: 1.16.0 Command: /home/biocbuild/bbs-3.21-bioc/R/bin/R CMD build --keep-empty-dirs --no-resave-data BloodGen3Module StartedAt: 2025-10-15 16:29:23 -0400 (Wed, 15 Oct 2025) EndedAt: 2025-10-15 16:30:34 -0400 (Wed, 15 Oct 2025) EllapsedTime: 71.1 seconds RetCode: 0 Status: OK PackageFile: BloodGen3Module_1.16.0.tar.gz PackageFileSize: 178.8 KiB