Package: BloodGen3Module Version: 1.16.0 Command: rm -rf BloodGen3Module.buildbin-libdir && mkdir BloodGen3Module.buildbin-libdir && /Users/biocbuild/BBS/utils/build-universal.sh BloodGen3Module_1.16.0.tar.gz /Library/Frameworks/R.framework/Resources/bin/R BloodGen3Module.buildbin-libdir StartedAt: 2025-10-14 12:56:15 -0400 (Tue, 14 Oct 2025) EndedAt: 2025-10-14 12:57:23 -0400 (Tue, 14 Oct 2025) EllapsedTime: 67.3 seconds RetCode: 0 Status: OK PackageFile: BloodGen3Module_1.16.0.tgz PackageFileSize: 240.9 KiB