Package: BloodGen3Module Version: 1.16.0 Command: /home/biocbuild/R/R/bin/R CMD INSTALL BloodGen3Module StartedAt: 2025-10-13 20:40:26 -0000 (Mon, 13 Oct 2025) EndedAt: 2025-10-13 20:41:12 -0000 (Mon, 13 Oct 2025) EllapsedTime: 45.8 seconds RetCode: 0 Status: OK