Package: BloodGen3Module Version: 1.16.0 Command: /home/biocbuild/R/R/bin/R CMD build --keep-empty-dirs --no-resave-data BloodGen3Module StartedAt: 2025-10-13 23:13:13 -0000 (Mon, 13 Oct 2025) EndedAt: 2025-10-13 23:15:06 -0000 (Mon, 13 Oct 2025) EllapsedTime: 113.0 seconds RetCode: 0 Status: OK PackageFile: BloodGen3Module_1.16.0.tar.gz PackageFileSize: 179.3 KiB