Package: BloodGen3Module Version: 1.16.0 Command: /Library/Frameworks/R.framework/Resources/bin/R CMD INSTALL BloodGen3Module StartedAt: 2025-10-13 16:07:21 -0400 (Mon, 13 Oct 2025) EndedAt: 2025-10-13 16:08:00 -0400 (Mon, 13 Oct 2025) EllapsedTime: 38.7 seconds RetCode: 0 Status: OK