Package: BloodGen3Module Version: 1.16.0 Command: /Library/Frameworks/R.framework/Resources/bin/R CMD build --keep-empty-dirs --no-resave-data BloodGen3Module StartedAt: 2025-10-13 20:14:20 -0400 (Mon, 13 Oct 2025) EndedAt: 2025-10-13 20:15:51 -0400 (Mon, 13 Oct 2025) EllapsedTime: 91.5 seconds RetCode: 0 Status: OK PackageFile: BloodGen3Module_1.16.0.tar.gz PackageFileSize: 178.7 KiB