Package: BiocWorkflowTools Version: 1.34.0 Command: rm -rf BiocWorkflowTools.buildbin-libdir && mkdir BiocWorkflowTools.buildbin-libdir && /Users/biocbuild/BBS/utils/build-universal.sh BiocWorkflowTools_1.34.0.tar.gz /Library/Frameworks/R.framework/Resources/bin/R BiocWorkflowTools.buildbin-libdir StartedAt: 2025-10-15 17:36:38 -0400 (Wed, 15 Oct 2025) EndedAt: 2025-10-15 17:36:44 -0400 (Wed, 15 Oct 2025) EllapsedTime: 5.8 seconds RetCode: 0 Status: OK PackageFile: BiocWorkflowTools_1.34.0.tgz PackageFileSize: 688.5 KiB