Package: BiocVersion Version: 3.21.1 Command: /home/biocbuild/bbs-3.21-bioc/R/bin/R CMD build --keep-empty-dirs --no-resave-data BiocVersion StartedAt: 2025-10-15 16:26:43 -0400 (Wed, 15 Oct 2025) EndedAt: 2025-10-15 16:26:44 -0400 (Wed, 15 Oct 2025) EllapsedTime: 1.0 seconds RetCode: 0 Status: OK PackageFile: BiocVersion_3.21.1.tar.gz PackageFileSize: 1002 bytes