Package: BiocVersion Version: 3.21.1 Command: /home/biocbuild/R/R/bin/R CMD INSTALL BiocVersion StartedAt: 2025-10-13 20:14:39 -0000 (Mon, 13 Oct 2025) EndedAt: 2025-10-13 20:15:06 -0000 (Mon, 13 Oct 2025) EllapsedTime: 26.8 seconds RetCode: 0 Status: OK