Package: BiocVersion Version: 3.21.1 Command: /home/biocbuild/R/R/bin/R CMD build --keep-empty-dirs --no-resave-data BiocVersion StartedAt: 2025-10-13 23:08:09 -0000 (Mon, 13 Oct 2025) EndedAt: 2025-10-13 23:08:10 -0000 (Mon, 13 Oct 2025) EllapsedTime: 1.0 seconds RetCode: 0 Status: OK PackageFile: BiocVersion_3.21.1.tar.gz PackageFileSize: 998 bytes